BEGIN:VCALENDAR
VERSION:2.0
PRODID:-//Eunmute - ECPv6.8.1//NONSGML v1.0//EN
CALSCALE:GREGORIAN
METHOD:PUBLISH
X-ORIGINAL-URL:https://eunmute.eu
X-WR-CALDESC:Events for Eunmute
REFRESH-INTERVAL;VALUE=DURATION:PT1H
X-Robots-Tag:noindex
X-PUBLISHED-TTL:PT1H
BEGIN:VTIMEZONE
TZID:Europe/Paris
BEGIN:DAYLIGHT
TZOFFSETFROM:+0100
TZOFFSETTO:+0200
TZNAME:CEST
DTSTART:20250330T010000
END:DAYLIGHT
BEGIN:STANDARD
TZOFFSETFROM:+0200
TZOFFSETTO:+0100
TZNAME:CET
DTSTART:20251026T010000
END:STANDARD
END:VTIMEZONE
BEGIN:VEVENT
DTSTART;TZID=Europe/Paris:20250204T113000
DTEND;TZID=Europe/Paris:20250204T130000
DTSTAMP:20260421T182613
CREATED:20241008T140622Z
LAST-MODIFIED:20250128T104218Z
UID:3447-1738668600-1738674000@eunmute.eu
SUMMARY:Prendre au sérieux la vulnérabilité : l'approche globale de la Commission de la santé mentale
DESCRIPTION:Avec : Maria Fartunova-Michel\, Université de Lorraine \nDiscutantes: Virginie Pirard\, Chercheuse à l’ULB & vice-présidente du Comité consultatif de Bioéthique de Belgique et Florence Delmotte\, UCLouvain Saint-Louis Bruxelles  \nAbstract :  \nLa résolution du Parlement européen\, adoptée le 5 juillet 2022\, et le discours de la Présidente de la Commission européenne sur l’état de l’Union européenne\, ont mis clairement l’accent sur l’importance de prendre au sérieux la santé mentale. Depuis une vingtaine d’années\, les problèmes de santé mentale et leur prise en charge médicale et sociale n’ont cessé d’augmenter. Les populations à risques sont aussi souvent les populations les plus fragiles et les moins visibles : jeunes\, personnes sans abri ou encore migrants en situation irrégulière dont la détresse empêche de porter leur voix. Conduisant souvent à des situations de discrimination\, de stigmatisation\, de contraintes\, d’isolement ou d’enfermement\, voire des traitements imposés\, ces problèmes de santé mentale invitent à réfléchir dans une démarche prospective sur la méthode pour les appréhender\, ainsi que sur l’évolution de la politique de la santé de l’Union européenne. Reconnue désormais comme une problématique de santé publique\, la santé mentale des plus vulnérables est au cœur du Plan pour la santé mentale de l’UE présenté en 2023 par la Commission européenne. Ce plan l’envisage grâce à l’approche d’une stratégie globale de l’Union sur la santé mentale. L’objet de cette contribution est de l’éprouver en partant des relations complexes qu’entretiennent la protection des droits individuels et les impératifs de santé publique et du nécessaire respect de la liberté et du modèle de justice sociale au sein duquel ces questions sont amenées à évoluer.  \nLien pour l’inscription
URL:https://eunmute.eu/event/3447/
LOCATION:6007 rue du Marais 119\, rue du Marais 119\, Bruxelles\, 1000\, Belgium
END:VEVENT
BEGIN:VEVENT
DTSTART;TZID=Europe/Paris:20250226T123000
DTEND;TZID=Europe/Paris:20250226T143000
DTSTAMP:20260421T182613
CREATED:20241008T141225Z
LAST-MODIFIED:20250127T161852Z
UID:3448-1740573000-1740580200@eunmute.eu
SUMMARY:Navigating Hostility: How LGBTQ+ interest groups strategize in hostile contexts in the EU
DESCRIPTION:Presenter: Bastiaan Redert (University of Antwerp) – Navigating Hostility: How LGBTQ+ interest groups strategize in hostile contexts in the EU \nDiscussion: Cecilia Rizcallah (UCLouvain Saint-Louis Bruxelles) & Samuel Defacqz (UCLouvain) \nAbstract \nEqual rights for LGBTQ+ individuals are increasingly contested across Europe\, threatening the well-being of millions. In this context\, LGBTQ+ organizations play a vital role\, not only in advocating for equality policies but also in providing essential community services such as healthcare\, safe spaces\, and suicide prevention. Despite their importance\, research on these organizations remains limited\, especially regarding how their strategies and structures adapt to diverse national contexts. In a recently funded project\, Bastiaan Redert bridges this gap by examining how national political environments influence the organization and strategies of LGBTQ+ interest groups in Europe. Using a combination of survey data and unique datasets\, it explores how these groups navigate political and community-oriented roles. During this seminar\, the project will be introduced\, and some key findings will be presented and discussed. First\, findings of preliminary studies show that in repressive contexts organizations focus shifts from political advocacy to community support. Second\, in another study Bastiaan finds that when elite opinion is supportive towards LGBTQ+ equality\, organizations favor insider strategies. Yet\, in hostile settings\, they often face barriers to political engagement and do not become more active in their communities. These findings suggest that hostile political contexts further silences already marginalized voices. \nLink to registration
URL:https://eunmute.eu/event/navigating-hostility-how-lgbtq-interest-groups-strategize-in-hostile-contexts-in-the-eu/
LOCATION:P61
END:VEVENT
END:VCALENDAR